BEGIN:VCALENDAR
VERSION:2.0
PRODID:-//Hospiz-und Palliativ Akademie Oberhausen - ECPv6.15.20//NONSGML v1.0//EN
CALSCALE:GREGORIAN
METHOD:PUBLISH
X-ORIGINAL-URL:https://hospizakademie-oberhausen.de
X-WR-CALDESC:Veranstaltungen für Hospiz-und Palliativ Akademie Oberhausen
REFRESH-INTERVAL;VALUE=DURATION:PT1H
X-Robots-Tag:noindex
X-PUBLISHED-TTL:PT1H
BEGIN:VTIMEZONE
TZID:Europe/Berlin
BEGIN:DAYLIGHT
TZOFFSETFROM:+0100
TZOFFSETTO:+0200
TZNAME:CEST
DTSTART:20210328T010000
END:DAYLIGHT
BEGIN:STANDARD
TZOFFSETFROM:+0200
TZOFFSETTO:+0100
TZNAME:CET
DTSTART:20211031T010000
END:STANDARD
BEGIN:DAYLIGHT
TZOFFSETFROM:+0100
TZOFFSETTO:+0200
TZNAME:CEST
DTSTART:20220327T010000
END:DAYLIGHT
BEGIN:STANDARD
TZOFFSETFROM:+0200
TZOFFSETTO:+0100
TZNAME:CET
DTSTART:20221030T010000
END:STANDARD
BEGIN:DAYLIGHT
TZOFFSETFROM:+0100
TZOFFSETTO:+0200
TZNAME:CEST
DTSTART:20230326T010000
END:DAYLIGHT
BEGIN:STANDARD
TZOFFSETFROM:+0200
TZOFFSETTO:+0100
TZNAME:CET
DTSTART:20231029T010000
END:STANDARD
END:VTIMEZONE
BEGIN:VEVENT
DTSTART;TZID=Europe/Berlin:20220217T170000
DTEND;TZID=Europe/Berlin:20220217T210000
DTSTAMP:20260421T125052
CREATED:20211214T102255Z
LAST-MODIFIED:20211214T102255Z
UID:2122-1645117200-1645131600@hospizakademie-oberhausen.de
SUMMARY:Letzte Hilfe Kurs
DESCRIPTION:„Alles\, was lebt\, muss auch irgendwann sterben“\nDieser Kurs nach dem Konzept von Georg Bollig ruft dazu auf\, über Sterben und Tod nachzudenken und zu sprechen\, denn genau dazu bietet sich in unserem täglichen Leben kaum Platz. \nLetzte Hilfe Kurse können dazu beitragen\, die Bevölkerung in die Umsorgung schwerkranker\, hochaltriger und sterbender Menschen einzubeziehen und ihre  Hilflosigkeit bei der Begleitung Sterbender zu vermeiden. Sie helfen auch zur weiteren Verbreitung von Palliativversorgung und Hospizidee und können ein Beitrag dazu sein\, mehr Menschen den Wunsch zu erfüllen\, in häuslicher Umgebung zu sterben. \nJe nach Coronalage wird der Kurs in Präsenz oder per Zoom angeboten. \n17 – 21 Uhr
URL:https://hospizakademie-oberhausen.de/event/letzte-hilfe-kurs/
LOCATION:Ambulantes Hospiz Oberhausen\, Max-Planck-Ring 56\, Oberhausen\, 46049
CATEGORIES:Öffentlichkeit
END:VEVENT
END:VCALENDAR